BEGIN:VCALENDAR
VERSION:2.0
PRODID:-//Berliner Schloss - ECPv6.15.17.1//NONSGML v1.0//EN
CALSCALE:GREGORIAN
METHOD:PUBLISH
X-WR-CALNAME:Berliner Schloss
X-ORIGINAL-URL:https://berliner-schloss.de
X-WR-CALDESC:Veranstaltungen für Berliner Schloss
REFRESH-INTERVAL;VALUE=DURATION:PT1H
X-Robots-Tag:noindex
X-PUBLISHED-TTL:PT1H
BEGIN:VTIMEZONE
TZID:Europe/Helsinki
BEGIN:DAYLIGHT
TZOFFSETFROM:+0200
TZOFFSETTO:+0300
TZNAME:EEST
DTSTART:20150329T010000
END:DAYLIGHT
BEGIN:STANDARD
TZOFFSETFROM:+0300
TZOFFSETTO:+0200
TZNAME:EET
DTSTART:20151025T010000
END:STANDARD
BEGIN:DAYLIGHT
TZOFFSETFROM:+0200
TZOFFSETTO:+0300
TZNAME:EEST
DTSTART:20160327T010000
END:DAYLIGHT
BEGIN:STANDARD
TZOFFSETFROM:+0300
TZOFFSETTO:+0200
TZNAME:EET
DTSTART:20161030T010000
END:STANDARD
BEGIN:DAYLIGHT
TZOFFSETFROM:+0200
TZOFFSETTO:+0300
TZNAME:EEST
DTSTART:20170326T010000
END:DAYLIGHT
BEGIN:STANDARD
TZOFFSETFROM:+0300
TZOFFSETTO:+0200
TZNAME:EET
DTSTART:20171029T010000
END:STANDARD
END:VTIMEZONE
BEGIN:VEVENT
DTSTART;TZID=Europe/Helsinki:20160206T080000
DTEND;TZID=Europe/Helsinki:20160206T220000
DTSTAMP:20260420T142523
CREATED:20160128T110845Z
LAST-MODIFIED:20160128T111315Z
UID:551951-1454745600-1454796000@berliner-schloss.de
SUMMARY:Übergabe eines Bozzetto an den Hamburger Freundeskreis
DESCRIPTION:Am Samstag\,den 6. Februar wird in der Schlossbauhütte in Berlin-Spandau \ndas Bozetto der Flora-Skulptur \nvon Bertold Just (Leiter der Schlossbauhütte) an den Freundeskreis Hamburg übergeben. \n  \nDer Freundeskreis Hamburg organisiert aus diesem Anlass für die Hamburger Schloss-Freunde eine exklusive Berlin-Bus-Reise mit der Besichtigung der Spandauer Schlossbauhütte und einer anschließenden Führung in der Humboldt-Box am Lustgarten in Berlin-Mitte. \n  \nMehr Informationen: \nHerr Udo Steinmetz\, Tel. 040-89807515 oder 0171-5106311 \nE-Mail: udo.steinmetz@berliner-schloss.de \n  \n  \n  \n 
URL:https://berliner-schloss.de/veranstaltung/uebergabe-des-bozzetto-an-den-hamburger-freundeskreis/
LOCATION:Schlossbauhütte\, Berlin\, 13585\, Deutschland
END:VEVENT
BEGIN:VEVENT
DTSTART;TZID=Europe/Helsinki:20160208T163000
DTEND;TZID=Europe/Helsinki:20160208T190000
DTSTAMP:20260420T142523
CREATED:20160128T112129Z
LAST-MODIFIED:20160128T112206Z
UID:551953-1454949000-1454958000@berliner-schloss.de
SUMMARY:Freundeskreissitzung vom Freundeskreis Hamburg
DESCRIPTION:Am Montag\, 8. Februar um 16:30 Uhr trifft sich der \nFreundeskreis Hamburg \nin der Reederei Bernhard Schulte (Vorsetzen 54\, 20459 Hamburg) zu seiner nächsten Sitzung. \n  \nEs geht um einen Rückblick auf die Aktivitäten im Jahr 2015\, um einen Ausblick auf die Aktionen im Jahr 2016 und die Vorbereitung der Wanderausstellung in der Europa-Passage. \n  \nMehr Informationen: \nHerr Udo Steinmetz\, Tel. 040-89807515 oder 0171-5106311 \nE-Mail: udo.steinmetz@berliner-schloss.de \n  \n  \n 
URL:https://berliner-schloss.de/veranstaltung/freundeskreissitzung-vom-freundeskreis-hamburg/
LOCATION:Reederei Bernhard Schulte\, Vorsetzen 54\, Hamburg\, 20459\, Deutschland
END:VEVENT
BEGIN:VEVENT
DTSTART;VALUE=DATE:20160218
DTEND;VALUE=DATE:20160228
DTSTAMP:20260420T142523
CREATED:20160101T122341Z
LAST-MODIFIED:20160101T122341Z
UID:551853-1455753600-1456617599@berliner-schloss.de
SUMMARY:Wanderausstellung "Was für ein Schloss!" in der Europa-Passage Hamburg
DESCRIPTION:Die große Wanderausstellung „Was für ein Schloss! Das Berliner Schloss – Humboldt Forum“ über den Wiederaufbau des Berliner Schlosses ist vom 18. bis 27. Februar in Hamburg in der „Europa Passage“ an der Binnenalster (Ballindamm 40\, 20095 Hamburg) zu sehen. \nHier gibt es nicht nur über 120 Shops auf fünf Etagen und eine imposante Architektur – die Europa Passage ist auch ein beliebter Ort für Kultur und somit bestens geeignet\, eine Ausstellung über das Berliner Schloss zu präsentieren. \n  \nEuropa Passage \nBallindamm 40\, 20095 Hamburg \nMo-Sa 10:00 bis 20:00 Uhr \nTel. 040 – 300 92 64 0 \nwww.europa-passage.de \n  \n 
URL:https://berliner-schloss.de/veranstaltung/wanderausstellung-was-fuer-ein-schloss-in/
LOCATION:Europa Passage\, Ballindamm 40\, Hamburg\, 20095\, Deutschland
END:VEVENT
END:VCALENDAR