BEGIN:VCALENDAR
VERSION:2.0
PRODID:-//Berliner Schloss - ECPv6.15.17.1//NONSGML v1.0//EN
CALSCALE:GREGORIAN
METHOD:PUBLISH
X-ORIGINAL-URL:https://berliner-schloss.de
X-WR-CALDESC:Veranstaltungen für Berliner Schloss
REFRESH-INTERVAL;VALUE=DURATION:PT1H
X-Robots-Tag:noindex
X-PUBLISHED-TTL:PT1H
BEGIN:VTIMEZONE
TZID:Europe/Helsinki
BEGIN:DAYLIGHT
TZOFFSETFROM:+0200
TZOFFSETTO:+0300
TZNAME:EEST
DTSTART:20140330T010000
END:DAYLIGHT
BEGIN:STANDARD
TZOFFSETFROM:+0300
TZOFFSETTO:+0200
TZNAME:EET
DTSTART:20141026T010000
END:STANDARD
BEGIN:DAYLIGHT
TZOFFSETFROM:+0200
TZOFFSETTO:+0300
TZNAME:EEST
DTSTART:20150329T010000
END:DAYLIGHT
BEGIN:STANDARD
TZOFFSETFROM:+0300
TZOFFSETTO:+0200
TZNAME:EET
DTSTART:20151025T010000
END:STANDARD
BEGIN:DAYLIGHT
TZOFFSETFROM:+0200
TZOFFSETTO:+0300
TZNAME:EEST
DTSTART:20160327T010000
END:DAYLIGHT
BEGIN:STANDARD
TZOFFSETFROM:+0300
TZOFFSETTO:+0200
TZNAME:EET
DTSTART:20161030T010000
END:STANDARD
END:VTIMEZONE
BEGIN:VTIMEZONE
TZID:Europe/Helsinki
BEGIN:DAYLIGHT
TZOFFSETFROM:+0200
TZOFFSETTO:+0300
TZNAME:EEST
DTSTART:20140330T010000
END:DAYLIGHT
BEGIN:STANDARD
TZOFFSETFROM:+0300
TZOFFSETTO:+0200
TZNAME:EET
DTSTART:20141026T010000
END:STANDARD
BEGIN:DAYLIGHT
TZOFFSETFROM:+0200
TZOFFSETTO:+0300
TZNAME:EEST
DTSTART:20150329T010000
END:DAYLIGHT
BEGIN:STANDARD
TZOFFSETFROM:+0300
TZOFFSETTO:+0200
TZNAME:EET
DTSTART:20151025T010000
END:STANDARD
BEGIN:DAYLIGHT
TZOFFSETFROM:+0200
TZOFFSETTO:+0300
TZNAME:EEST
DTSTART:20160327T010000
END:DAYLIGHT
BEGIN:STANDARD
TZOFFSETFROM:+0300
TZOFFSETTO:+0200
TZNAME:EET
DTSTART:20161030T010000
END:STANDARD
END:VTIMEZONE
BEGIN:VEVENT
DTSTART;VALUE=DATE:20150922
DTEND;VALUE=DATE:20151031
DTSTAMP:20260420T203243
CREATED:20150603T092049Z
LAST-MODIFIED:20150923T205304Z
UID:549483-1442880000-1446249599@berliner-schloss.de
SUMMARY:Wanderausstellung “Was für ein Schloss!” in Hannover
DESCRIPTION:Vom 22. September bis 30. Oktober ist die Wanderausstellung “Was für ein Schloss!” im Hause der Deutschen Bank in Hannover zu Gast. \nAusstellung „Was für ein Schloss!“\nDeutsche Bank Hannover\nbis 30.10.2015\nGeorgsplatz 20\, 30159 Hannover\nÖffnungszeiten: Mo\, Di\, Do 9 bis 18 Uhr und Mi + Fr 9 bis 13:30 Uhr.\nDer Eintritt ist frei! \nLesen Sie hier den Bericht von der Eröffnung!
URL:https://berliner-schloss.de/veranstaltung/wanderausstellung-berliner-schloss/
LOCATION:Deutsche Bank Hannover\, Deutschland
ORGANIZER;CN="Freunde des Berliner Schlosses in Hannover":MAILTO:marc-pieweck@gmx.de
END:VEVENT
BEGIN:VEVENT
DTSTART;TZID=Europe/Helsinki:20151005T190000
DTEND;TZID=Europe/Helsinki:20151005T210000
DTSTAMP:20260420T203243
CREATED:20150923T183908Z
LAST-MODIFIED:20150930T075817Z
UID:551120-1444071600-1444078800@berliner-schloss.de
SUMMARY:"Berlin - Wiedergeburt einer Stadt" - Lesung in der Humboldt-Box
DESCRIPTION:Am 5. Oktober um 19:00 Uhr liest Dr. Herman Rudolph aus seinem Buch in der Humboldt-Box. \nDr. Hermann Rudolph\, früherer Herausgeber des Tagesspiegels\, hat mit „Berlin – Wiedergeburt einer Stadt“ ein hochinteressantes Buch über Berlin geschrieben. Mauerfall\, Ringen um die Hauptstadt\, Aufstieg zur Metropole – der Übergang von der Mauerstadt zur heutigen deutschen Hauptstadt in den 1990er Jahren ist das Hauptthema. \nDas Buch und die Lesung haben ihren besonderen Wert\, weil alles schon so lange zurückliegt und die Zeit so noch einmal in Erinnerung gerufen wird. Es darf nicht vergessen werden\, dass es kein einfacher Weg war\, sondern eine dramatische Ära von Aufbruch und Umbruch. \n  \nLesung „Berlin – Wiedergeburt einer Stadt“  \nmit Autor Dr. Herman Rudolph \n05.10.2015 in der Humboldt-Box \nSchlossplatz 5\, 10178 Berlin \n  \nLeider sind für diese Veranstaltung alle Plätze vergeben!
URL:https://berliner-schloss.de/veranstaltung/berlin-wiedergeburt-einer-stadt-lesung-in-der-humboldt-box/
LOCATION:Berliner Stadtbibliothek\, Breite Str. 36\, Berlin\, 10178\, Deutschland
END:VEVENT
BEGIN:VEVENT
DTSTART;TZID=Europe/Helsinki:20151012T110000
DTEND;TZID=Europe/Helsinki:20151012T170000
DTSTAMP:20260420T203243
CREATED:20150729T093156Z
LAST-MODIFIED:20150923T194600Z
UID:550673-1444647600-1444669200@berliner-schloss.de
SUMMARY:Exkursion nach Bamberg zum Natursteinwerk Graser
DESCRIPTION:Der Freundeskreis München lädt am 12. Oktober zu einer Exkursion nach Bamberg in das Natursteinwerk Graser (Dr.-Robert-Pfleger-Str. 25\, 96052 Bamberg) ein. \nEs gibt eine exklusive Betriebsbesichtigung von 11 bis 13 Uhr und anschließend nach dem Mittagessen ist um 15 Uhr die Besichtigung des Bamberger Doms mit einer Führung mit Herrn E. Götz geplant. \nAn- und Abreise ist per Zug (München-Nürnberg-Bamberg) oder mit dem Privatauto möglich. \nAnmeldung bitte bis zum 6. Oktober. \nMehr Informationen: Karin von Spaun\, Tel.: 08152 – 31 72
URL:https://berliner-schloss.de/veranstaltung/exkursion-nach-bamberg/
LOCATION:Natursteinwerk Graser\, Bamberg\, Deutschland
ORGANIZER;CN="Freundeskreis M%C3%BCnchen im F%C3%B6rderverein Berliner Schloss e.V.":MAILTO:karin.von.spaun@online.de
END:VEVENT
BEGIN:VEVENT
DTSTART;TZID=Europe/Helsinki:20151013T190000
DTEND;TZID=Europe/Helsinki:20151014T235500
DTSTAMP:20260420T203243
CREATED:20151006T204529Z
LAST-MODIFIED:20151009T053941Z
UID:551201-1444762800-1444866900@berliner-schloss.de
SUMMARY:"Festival of Lights" - das Berliner Schloss leuchtet
DESCRIPTION:  \nWenn im Rahmen vom „11. Festival of Lights“ wieder zahlreiche Wahrzeichen der Hauptstadt bunt und beeindruckend illuminiert werden und das Brandenburger Tor\, der Fernsehturm\, der Funkturm\, die Oberbaumbrücke oder der Berliner Dom in den schönsten Farben leuchten\, ist in diesem Jahr auch das Berliner Schloss mit dabei! \nErleben Sie live mit\, wenn am 13. Oktober zur Dämmerung die Westfassade mit der Schloss-Kuppel in einem Licht erscheint\, als sei das Schloss schon fertig! \nÄhnlich wie beim Richtfest am 12. Juni dieses Jahres\, bei dem im künftigen Eingangsportal die Rückwand per farbiger Folie dargestellt wurde\, wird auch diese Licht-Projektion an der West-Fassade für großes Staunen sorgen. \nAchtung: Die Baustellen-Illumination an der Westseite des Berliner Schlosses ist nur zwei Tage vom 13. bis zum 14. Oktober zu sehen. \n 
URL:https://berliner-schloss.de/veranstaltung/festival-of-lights-das-berliner-schloss-leuchtet/
LOCATION:Berliner Schloss\, Schlossplatz\, Berlin\, 10178\, Deutschland
END:VEVENT
BEGIN:VEVENT
DTSTART;TZID=Europe/Helsinki:20151017T150000
DTEND;TZID=Europe/Helsinki:20151017T160000
DTSTAMP:20260420T203243
CREATED:20151007T210528Z
LAST-MODIFIED:20151007T210705Z
UID:551259-1445094000-1445097600@berliner-schloss.de
SUMMARY:Platzkonzert vor der Humboldt-Box
DESCRIPTION:Am 17. Oktober gibt die Trachtenkapelle des Truderinger Musikvereins um 15:00 Uhr vor der Humboldt-Box (Schlossplatz 5\, 10178 Berlin) ein etwa einstündiges Platzkonzert. \nEs werden Märsche wie der „Bayerische Defiliermarsch“ oder die Polka „Auf der Vogelwiese“ und auch Modernes wie Lieder von den Beach Boys gespielt. \nAlle Berlinerinnen und Berliner sowie Berlin-Touristen sind herzlich eingeladen\, dem heiteren Konzert am Fuße der Schloss-Baustelle zu folgen. \nDie Blaskapelle aus München spielt honorarfrei und freut sich\, wenn statt eines Eintritts direkt für das Berliner Schloss gespendet wird. \nEhrenamtliche Mitarbeiter vom Förderverein Berliner Schloss e.V. werden zum Konzert mit einem Info-Stand vor der Humboldt-Box vertreten sein. \n  \nPlatzkonzert vor der Humboldt-Box\n17.10.2015\, 15:00 Uhr\nSchlossplatz 5\, 10178 Berlin\nTrachtenkapelle des Truderinger Musikvereins\nMehr Informationen: www.truderinger-musikverein.de \n  \n 
URL:https://berliner-schloss.de/veranstaltung/platzkonzert-vor-der-humboldt-box/
LOCATION:Berliner Stadtbibliothek\, Breite Str. 36\, Berlin\, 10178\, Deutschland
END:VEVENT
BEGIN:VEVENT
DTSTART;TZID=Europe/Helsinki:20151017T153000
DTEND;TZID=Europe/Helsinki:20151017T173000
DTSTAMP:20260420T203243
CREATED:20150923T212917Z
LAST-MODIFIED:20150923T213106Z
UID:551146-1445095800-1445103000@berliner-schloss.de
SUMMARY:Vortrag zur Kirchenpolitik mit Pastor Riebesell
DESCRIPTION:Am 17. Oktober um 15:30 Uhr lädt der Zollernkreis Lüneburg zum Vortrag von Pastor i.R. Heinrich Riebesell \n„Die Kirchenpolitik der brandenburgischen Herrscher vom 16. bis zum 20. Jahrhundert“  \nins Hotel Scheffler (Bardowicker Str. 7\, 21335 Lüneburg) in der Nähe vom Rathaus Lüneburg ein. \nDer Zollernkreis Lüneburg\, der zum Preußeninstitut e.V. in Remscheid gehört\, besteht unter der Leitung von Götz Aßmann seit 1978 und veranstaltet zweimal im Jahr Gesprächskreise. Außerdem engagieren sich beide Einrichtungen schon seit längerer Zeit für das Berliner Schloss. \nMehr Informationen: c/o Freundeskreis Lüneburg\, Herr Gerhard Marwitz\, Tel. 04131-46142
URL:https://berliner-schloss.de/veranstaltung/vortrag-zur-kirchenpolitik-mit-pastor-riebesell/
LOCATION:Hotel Scheffler Lüneburg\, Bardowicker Str. 7\, Lüneburg \, 21335\, Deutschland
END:VEVENT
BEGIN:VEVENT
DTSTART;TZID=Europe/Helsinki:20151017T180000
DTEND;TZID=Europe/Helsinki:20151017T220000
DTSTAMP:20260420T203243
CREATED:20150923T202006Z
LAST-MODIFIED:20150923T202123Z
UID:551132-1445104800-1445119200@berliner-schloss.de
SUMMARY:Vortrag "Die Humboldt-Brüder - Wegbereiter zum Berliner Schloss"
DESCRIPTION:Der Freundeskreis Hamburg lädt im Rahmen seiner Veranstaltungsreihe „Die Welt zu Gast bei Schlossfreunden“ am 17. Oktober um 18 Uhr zu einem Vortragsabend in den Verlag St. Gertrude (Goldbachs. 9) in Hamburg-Altona ein: \nKulturhistoriker Dr. Manfred Osten\, ehemaliger Generalsekretär der Alexander-von-Humboldt-Stiftung\, spricht über \n„Die Humboldt-Brüder – Wegbereiter zum Humboldt-Forum im neuen Berliner Schloss“ \nJunge Nachwuchskünstler der Hochschule für Musik spielen Werke von Georg Philipp Telemann und Ignaz Pleyel. Zum Ausklang erwartet Sie das Büffet „Herbstsinfonie“. \n  \nKostenbeitrag: 35 Euro pro Person (imcl. Getränke) \nAnmeldung bei Frau Gabriele Krage bis zum 12.10.2015 über Tel. 0173-4068722 \nAchtung: Der Zugang zur Veranstaltung ist nur über eine Treppe möglich. \nMehr Informationen: Herr Udo Steinmetz: Tel. 040-89807516 \n  \n 
URL:https://berliner-schloss.de/veranstaltung/vortrag-die-humboldt-brueder-wegbereiter-zum-berliner-schloss/
LOCATION:Verlag St. Gertrude\, Goldbachstr. 9\, Hamburg\, Deutschland
END:VEVENT
BEGIN:VEVENT
DTSTART;TZID=Europe/Helsinki:20151024T100000
DTEND;TZID=Europe/Helsinki:20151025T180000
DTSTAMP:20260420T203243
CREATED:20151007T092509Z
LAST-MODIFIED:20151007T210143Z
UID:551242-1445680800-1445796000@berliner-schloss.de
SUMMARY:Schloss-Informationsstand auf der "Herbst + Winterzauber"
DESCRIPTION:Am 24. und 25. Oktober ist der Freundeskreis Bremen mit einem Informationsstand zum Berliner Schloss auf der Messe \n„HERBST & WINTERZAUBER“ \n(Nostalga\, Mineralien\, Kunst+ Handwerk) \nvertreten. Diese findet in der Weser-Ems-Halle in Oldenburg statt. \n  \nMehr Informationen: \nFreundeskreis Bremen\, bremer-freunde@berliner-schloss.de\, Mathias P.A.Pfeiffer\, Tel.: 0421 – 63 67 663 \n 
URL:https://berliner-schloss.de/veranstaltung/schloss-informationsstand-auf-der-herbst-winterzauber/
LOCATION:Weser-Ems-Halle Oldenburg\, Deutschland
ORGANIZER;CN="Freunde des Berliner Schlosses in Bremen":MAILTO:bremer-freunde@berliner-schloss.de
END:VEVENT
BEGIN:VEVENT
DTSTART;VALUE=DATE:20151025
DTEND;VALUE=DATE:20151026
DTSTAMP:20260420T203243
CREATED:20150603T090345Z
LAST-MODIFIED:20150603T090345Z
UID:549480-1445731200-1445817599@berliner-schloss.de
SUMMARY:Informationsstand im Elbe-Einkaufszentrum
DESCRIPTION:Sonntag\, 25. Oktober: Informationsstand im Elbe-Einkaufszentrum
URL:https://berliner-schloss.de/veranstaltung/informationsstand-im-elbe-einkaufszentrum/
END:VEVENT
END:VCALENDAR