BEGIN:VCALENDAR
VERSION:2.0
PRODID:-//Berliner Schloss - ECPv6.15.17.1//NONSGML v1.0//EN
CALSCALE:GREGORIAN
METHOD:PUBLISH
X-ORIGINAL-URL:https://berliner-schloss.de
X-WR-CALDESC:Veranstaltungen für Berliner Schloss
REFRESH-INTERVAL;VALUE=DURATION:PT1H
X-Robots-Tag:noindex
X-PUBLISHED-TTL:PT1H
BEGIN:VTIMEZONE
TZID:Europe/Helsinki
BEGIN:DAYLIGHT
TZOFFSETFROM:+0200
TZOFFSETTO:+0300
TZNAME:EEST
DTSTART:20140330T010000
END:DAYLIGHT
BEGIN:STANDARD
TZOFFSETFROM:+0300
TZOFFSETTO:+0200
TZNAME:EET
DTSTART:20141026T010000
END:STANDARD
BEGIN:DAYLIGHT
TZOFFSETFROM:+0200
TZOFFSETTO:+0300
TZNAME:EEST
DTSTART:20150329T010000
END:DAYLIGHT
BEGIN:STANDARD
TZOFFSETFROM:+0300
TZOFFSETTO:+0200
TZNAME:EET
DTSTART:20151025T010000
END:STANDARD
BEGIN:DAYLIGHT
TZOFFSETFROM:+0200
TZOFFSETTO:+0300
TZNAME:EEST
DTSTART:20160327T010000
END:DAYLIGHT
BEGIN:STANDARD
TZOFFSETFROM:+0300
TZOFFSETTO:+0200
TZNAME:EET
DTSTART:20161030T010000
END:STANDARD
END:VTIMEZONE
BEGIN:VTIMEZONE
TZID:Europe/Helsinki
BEGIN:DAYLIGHT
TZOFFSETFROM:+0200
TZOFFSETTO:+0300
TZNAME:EEST
DTSTART:20140330T010000
END:DAYLIGHT
BEGIN:STANDARD
TZOFFSETFROM:+0300
TZOFFSETTO:+0200
TZNAME:EET
DTSTART:20141026T010000
END:STANDARD
BEGIN:DAYLIGHT
TZOFFSETFROM:+0200
TZOFFSETTO:+0300
TZNAME:EEST
DTSTART:20150329T010000
END:DAYLIGHT
BEGIN:STANDARD
TZOFFSETFROM:+0300
TZOFFSETTO:+0200
TZNAME:EET
DTSTART:20151025T010000
END:STANDARD
BEGIN:DAYLIGHT
TZOFFSETFROM:+0200
TZOFFSETTO:+0300
TZNAME:EEST
DTSTART:20160327T010000
END:DAYLIGHT
BEGIN:STANDARD
TZOFFSETFROM:+0300
TZOFFSETTO:+0200
TZNAME:EET
DTSTART:20161030T010000
END:STANDARD
END:VTIMEZONE
BEGIN:VEVENT
DTSTART;VALUE=DATE:20150904
DTEND;VALUE=DATE:20150907
DTSTAMP:20260421T000445
CREATED:20150603T090228Z
LAST-MODIFIED:20150603T090228Z
UID:549479-1441324800-1441583999@berliner-schloss.de
SUMMARY:Informationsstand im Schloss Wotersen
DESCRIPTION:Freitag\, 4. September – Sonntag\, 6. September: Informationsstand im Schloss Wotersen
URL:https://berliner-schloss.de/veranstaltung/informationsstand-im-schloss-wotersen/
END:VEVENT
BEGIN:VEVENT
DTSTART;TZID=Europe/Helsinki:20150908T190000
DTEND;TZID=Europe/Helsinki:20150908T210000
DTSTAMP:20260421T000445
CREATED:20150728T213855Z
LAST-MODIFIED:20150728T213855Z
UID:550652-1441738800-1441746000@berliner-schloss.de
SUMMARY:Freundeskreis-Treffen Hannover
DESCRIPTION:Der Freundeskreis Hannover trifft sich wieder am 8. September um 19 Uhr.
URL:https://berliner-schloss.de/veranstaltung/freundeskreis-treffen-hannover/
ORGANIZER;CN="Freunde des Berliner Schlosses in Hannover":MAILTO:marc-pieweck@gmx.de
END:VEVENT
BEGIN:VEVENT
DTSTART;TZID=Europe/Helsinki:20150915T180000
DTEND;TZID=Europe/Helsinki:20150915T200000
DTSTAMP:20260421T000445
CREATED:20150603T150505Z
LAST-MODIFIED:20150728T214930Z
UID:549488-1442340000-1442347200@berliner-schloss.de
SUMMARY:Freundeskreis-Sitzung München
DESCRIPTION:Der Freundeskreis München trifft sich zu seiner nächsten Sitzung am \n15. September um 18 Uhr \nim CQ der Fraternitas Dorpatensis (Baltenzentrum) in der Hesseloherstr. 13\, München \n  \nMehr Informationen: Karin von Spaun\, Tel.: 08152 – 31 72
URL:https://berliner-schloss.de/veranstaltung/naechste-freundeskreis-sitzung/
LOCATION:CQ der Fraternitas Dorpatensis (Baltenzentrum)\, Hesseloherstr. 13\, München\, Bayern\, Deutschland
ORGANIZER;CN="Freundeskreis M%C3%BCnchen im F%C3%B6rderverein Berliner Schloss e.V.":MAILTO:karin.von.spaun@online.de
END:VEVENT
BEGIN:VEVENT
DTSTART;VALUE=DATE:20150922
DTEND;VALUE=DATE:20151031
DTSTAMP:20260421T000445
CREATED:20150603T092049Z
LAST-MODIFIED:20150923T205304Z
UID:549483-1442880000-1446249599@berliner-schloss.de
SUMMARY:Wanderausstellung “Was für ein Schloss!” in Hannover
DESCRIPTION:Vom 22. September bis 30. Oktober ist die Wanderausstellung “Was für ein Schloss!” im Hause der Deutschen Bank in Hannover zu Gast. \nAusstellung „Was für ein Schloss!“\nDeutsche Bank Hannover\nbis 30.10.2015\nGeorgsplatz 20\, 30159 Hannover\nÖffnungszeiten: Mo\, Di\, Do 9 bis 18 Uhr und Mi + Fr 9 bis 13:30 Uhr.\nDer Eintritt ist frei! \nLesen Sie hier den Bericht von der Eröffnung!
URL:https://berliner-schloss.de/veranstaltung/wanderausstellung-berliner-schloss/
LOCATION:Deutsche Bank Hannover\, Deutschland
ORGANIZER;CN="Freunde des Berliner Schlosses in Hannover":MAILTO:marc-pieweck@gmx.de
END:VEVENT
BEGIN:VEVENT
DTSTART;TZID=Europe/Helsinki:20150928T170000
DTEND;TZID=Europe/Helsinki:20150928T200000
DTSTAMP:20260421T000445
CREATED:20150923T202440Z
LAST-MODIFIED:20150923T202440Z
UID:551135-1443459600-1443470400@berliner-schloss.de
SUMMARY:Freundeskreis-Sitzung vom Freundeskreis Hamburg
DESCRIPTION:Am 28. September um 17 Uhr trifft sich der Freundeskreis Hamburg in der Handelskammer Hamburg zu seiner nächsten Sitzung. \nMehr Informationen: Herr Udo Steinmetz\, Tel. 040-89807516
URL:https://berliner-schloss.de/veranstaltung/freundeskreis-sitzung-vom-freundeskreis-hamburg/
LOCATION:Handelskammer Hamburg\, Hamburg
END:VEVENT
BEGIN:VEVENT
DTSTART;TZID=Europe/Helsinki:20150930T180000
DTEND;TZID=Europe/Helsinki:20150930T200000
DTSTAMP:20260421T000445
CREATED:20150923T192654Z
LAST-MODIFIED:20150926T113534Z
UID:551124-1443636000-1443643200@berliner-schloss.de
SUMMARY:Freundeskreis-Sitzung vom Freundeskreis Köln und Bonn
DESCRIPTION:Am 30. September trifft sich der Freundeskreis Köln und Bonn um 18 Uhr im Brauhaus „Früh am Dom“. Adresse: Am Hof 18\, 50667 Köln. \n(Bitte neben dem Eingang zum Brauhaus die goldene Treppe in den 1. Stock nehmen – „Im Hof 18“.) \nMehr Informationen: Herr Arnd Böhme\, Tel. 02205-1338
URL:https://berliner-schloss.de/veranstaltung/freundeskreis-sitzung-vom-freundeskreis-koeln-und-bonn/
LOCATION:Brauhaus „Früh am Dom“\, Am Hof 18\, Köln\, 50667\, Deutschland
END:VEVENT
END:VCALENDAR