BEGIN:VCALENDAR
VERSION:2.0
PRODID:-//Berliner Schloss - ECPv6.15.17.1//NONSGML v1.0//EN
CALSCALE:GREGORIAN
METHOD:PUBLISH
X-WR-CALNAME:Berliner Schloss
X-ORIGINAL-URL:https://berliner-schloss.de
X-WR-CALDESC:Veranstaltungen für Berliner Schloss
REFRESH-INTERVAL;VALUE=DURATION:PT1H
X-Robots-Tag:noindex
X-PUBLISHED-TTL:PT1H
BEGIN:VTIMEZONE
TZID:Europe/Helsinki
BEGIN:DAYLIGHT
TZOFFSETFROM:+0200
TZOFFSETTO:+0300
TZNAME:EEST
DTSTART:20150329T010000
END:DAYLIGHT
BEGIN:STANDARD
TZOFFSETFROM:+0300
TZOFFSETTO:+0200
TZNAME:EET
DTSTART:20151025T010000
END:STANDARD
BEGIN:DAYLIGHT
TZOFFSETFROM:+0200
TZOFFSETTO:+0300
TZNAME:EEST
DTSTART:20160327T010000
END:DAYLIGHT
BEGIN:STANDARD
TZOFFSETFROM:+0300
TZOFFSETTO:+0200
TZNAME:EET
DTSTART:20161030T010000
END:STANDARD
BEGIN:DAYLIGHT
TZOFFSETFROM:+0200
TZOFFSETTO:+0300
TZNAME:EEST
DTSTART:20170326T010000
END:DAYLIGHT
BEGIN:STANDARD
TZOFFSETFROM:+0300
TZOFFSETTO:+0200
TZNAME:EET
DTSTART:20171029T010000
END:STANDARD
END:VTIMEZONE
BEGIN:VEVENT
DTSTART;TZID=Europe/Helsinki:20160328T170000
DTEND;TZID=Europe/Helsinki:20160328T200000
DTSTAMP:20260420T130141
CREATED:20160201T114007Z
LAST-MODIFIED:20160322T103830Z
UID:551957-1459184400-1459195200@berliner-schloss.de
SUMMARY:Benefizkonzert im Staatsarchiv Darmstadt
DESCRIPTION:Am Ostermontag\, 28. März um 17 Uhr findet – organisiert vom Freundeskreis Frankfurt am Main – ein \nBenefizkonzert für den Wiederaufbau des Berliner Schlosses \nim Hessischen Staatsarchiv Darmstadt (Karolinplatz 3\, 64289 Darmstadt) statt. \n  \nEs spielt das grand ART ensemble mit Irina Blank (Violine)\, Mischa Blank (Violine)\, Albert Hametoff (Viola)\, Tobias Sykora (Cello) Werke von Haydn\, Mozart\, Beethoven und Tschaikowski. \n  \nTickets gibt es für 18 Euro an der Abendkasse oder für 20 Euro inkl. VVK-Gebühren unter www.ztix.de. \n  \nFreunde des Berliner Schlosses in Frankfurt am Main \nAnsprechpartner:\nJochen Bender\, Tel.: 0176 – 295 91 872\nE-Mail: frankfurter-freunde@berliner-schloss.de \nSpendenkonto: Deutsche Bank Berlin\, IBAN DE 61 10070000 0077227728 \n  \n 
URL:https://berliner-schloss.de/veranstaltung/benefizkonzert-in-darmstadt/
LOCATION:Hessisches Staatsarchiv Darmstadt\, Karolinplatz 3\, Darmstadt\, 64289
ORGANIZER;CN="Freunde des Berliner Schlosses in Frankfurt am Main":MAILTO:frankfurter-freunde@berliner-schloss.de
END:VEVENT
END:VCALENDAR