BEGIN:VCALENDAR
VERSION:2.0
PRODID:-//Berliner Schloss - ECPv6.15.17.1//NONSGML v1.0//EN
CALSCALE:GREGORIAN
METHOD:PUBLISH
X-ORIGINAL-URL:https://berliner-schloss.de
X-WR-CALDESC:Veranstaltungen für Berliner Schloss
REFRESH-INTERVAL;VALUE=DURATION:PT1H
X-Robots-Tag:noindex
X-PUBLISHED-TTL:PT1H
BEGIN:VTIMEZONE
TZID:Europe/Helsinki
BEGIN:DAYLIGHT
TZOFFSETFROM:+0200
TZOFFSETTO:+0300
TZNAME:EEST
DTSTART:20150329T010000
END:DAYLIGHT
BEGIN:STANDARD
TZOFFSETFROM:+0300
TZOFFSETTO:+0200
TZNAME:EET
DTSTART:20151025T010000
END:STANDARD
BEGIN:DAYLIGHT
TZOFFSETFROM:+0200
TZOFFSETTO:+0300
TZNAME:EEST
DTSTART:20160327T010000
END:DAYLIGHT
BEGIN:STANDARD
TZOFFSETFROM:+0300
TZOFFSETTO:+0200
TZNAME:EET
DTSTART:20161030T010000
END:STANDARD
BEGIN:DAYLIGHT
TZOFFSETFROM:+0200
TZOFFSETTO:+0300
TZNAME:EEST
DTSTART:20170326T010000
END:DAYLIGHT
BEGIN:STANDARD
TZOFFSETFROM:+0300
TZOFFSETTO:+0200
TZNAME:EET
DTSTART:20171029T010000
END:STANDARD
END:VTIMEZONE
BEGIN:VEVENT
DTSTART;TZID=Europe/Helsinki:20160313T110000
DTEND;TZID=Europe/Helsinki:20160313T130000
DTSTAMP:20260420T142716
CREATED:20160108T123626Z
LAST-MODIFIED:20160108T124026Z
UID:551882-1457866800-1457874000@berliner-schloss.de
SUMMARY:"Köln hilft Berlin" - Joe Buschmann-Matinee in Köln
DESCRIPTION:Unter dem Motto „Köln hilft Berlin“ lädt der \nFreundeskreis Köln und Bonn im Förderverein Berliner Schloss e.V.  \nam Sonntag\, 13. März um 11 Uhr in memoriam zur \n„Joe Buschmann-Matinee“ \nins Hotel MARITIM (Heumarkt\, 50667 Köln) ein. \nDie Matinee beginnt mit einem musikalischen Willkommensgruß\, dann begrüßt der Vorstand des Freundeskreises Köln und Bonn die Gäste und es folgt ein Streifzug in die literarische Kabarett-Geschichte des Berliner Chansons mit der Kölner Diseuse Ina Seiffert und dem Pianisten Michael Allan. Die Matinee endet um 12:30 Uhr mit einem „Berliner Imbiss“. \nJoe Buschmann ist der Entdecker von Ina Seiffert und hat sie über 35 Jahre auf vielen Bühnen am Flügel begleitet. \n  \nEintritt:  35 Euro Spende pro Person \nBitte melden Sie sich bis zum 9. März per Fax 0221-272 800 84 an. \n  \nDer Freundeskreis Köln und Bonn im Förderverein Berliner Schloss e.V. sammelt für die „Kölner Fensterachse“. \nMehr Informationen: \nTel. 0221-272 800 38 \n  \n  \n 
URL:https://berliner-schloss.de/veranstaltung/koeln-hilft-berlin-joe-buschmann-matinee-in-koeln/
LOCATION:Hotel MARITIM\, Heumarkt\, Köln\, 50667\, Deutschland
ORGANIZER;CN="Freunde des Berliner Schlosses in K%C3%B6ln und Bonn":MAILTO:boehme.arnd@gmx.de
END:VEVENT
END:VCALENDAR