BEGIN:VCALENDAR
VERSION:2.0
PRODID:-//Berliner Schloss - ECPv6.15.17.1//NONSGML v1.0//EN
CALSCALE:GREGORIAN
METHOD:PUBLISH
X-WR-CALNAME:Berliner Schloss
X-ORIGINAL-URL:https://berliner-schloss.de
X-WR-CALDESC:Veranstaltungen für Berliner Schloss
REFRESH-INTERVAL;VALUE=DURATION:PT1H
X-Robots-Tag:noindex
X-PUBLISHED-TTL:PT1H
BEGIN:VTIMEZONE
TZID:Europe/Helsinki
BEGIN:DAYLIGHT
TZOFFSETFROM:+0200
TZOFFSETTO:+0300
TZNAME:EEST
DTSTART:20150329T010000
END:DAYLIGHT
BEGIN:STANDARD
TZOFFSETFROM:+0300
TZOFFSETTO:+0200
TZNAME:EET
DTSTART:20151025T010000
END:STANDARD
BEGIN:DAYLIGHT
TZOFFSETFROM:+0200
TZOFFSETTO:+0300
TZNAME:EEST
DTSTART:20160327T010000
END:DAYLIGHT
BEGIN:STANDARD
TZOFFSETFROM:+0300
TZOFFSETTO:+0200
TZNAME:EET
DTSTART:20161030T010000
END:STANDARD
BEGIN:DAYLIGHT
TZOFFSETFROM:+0200
TZOFFSETTO:+0300
TZNAME:EEST
DTSTART:20170326T010000
END:DAYLIGHT
BEGIN:STANDARD
TZOFFSETFROM:+0300
TZOFFSETTO:+0200
TZNAME:EET
DTSTART:20171029T010000
END:STANDARD
END:VTIMEZONE
BEGIN:VEVENT
DTSTART;TZID=Europe/Helsinki:20160120T190000
DTEND;TZID=Europe/Helsinki:20160120T210000
DTSTAMP:20260420T172139
CREATED:20160106T120126Z
LAST-MODIFIED:20160107T113006Z
UID:551875-1453316400-1453323600@berliner-schloss.de
SUMMARY:Vortrag über das Berliner Schloss: "Geschichtsfälschung oder Stadtreparatur?"
DESCRIPTION:Am 20. Januar 2016 gibt es um 19 Uhr im Akademischen Kunstmuseum Bonn\, initiiert vom Ortskuratorium Bonn/Rhein-Sieg und dem Bonner Potsdam Club e.V.\, einen Vortrag von Herrn Dr.-Ing. Sebastian Storz (Vorstandsvorsitzender „Forum für Baukultur e.V.“) zum Thema \n„Der Wiederaufbau des Berliner Stadtschlosses als Humboldtforum – Geschichtsfälschung und Geldverschwendung oder Stadtreparatur und Erinnerungskultur?“ \n  \nAkademisches Kunstmuseum Bonn \nAm Hofgarten 21\, 53113 Bonn \n  \nDer Eintritt ist frei! \n  \n 
URL:https://berliner-schloss.de/veranstaltung/vortrag-geschichtsfaelschung-oder-stadtreparatur-in-bonn/
LOCATION:Akademisches Kunstmuseum Bonn\, Am Hofgarten 21\, Bonn\, 53113\, Deutschland
END:VEVENT
END:VCALENDAR