BEGIN:VCALENDAR
VERSION:2.0
PRODID:-//Berliner Schloss - ECPv6.15.17.1//NONSGML v1.0//EN
CALSCALE:GREGORIAN
METHOD:PUBLISH
X-ORIGINAL-URL:https://berliner-schloss.de
X-WR-CALDESC:Veranstaltungen für Berliner Schloss
REFRESH-INTERVAL;VALUE=DURATION:PT1H
X-Robots-Tag:noindex
X-PUBLISHED-TTL:PT1H
BEGIN:VTIMEZONE
TZID:Europe/Helsinki
BEGIN:DAYLIGHT
TZOFFSETFROM:+0200
TZOFFSETTO:+0300
TZNAME:EEST
DTSTART:20140330T010000
END:DAYLIGHT
BEGIN:STANDARD
TZOFFSETFROM:+0300
TZOFFSETTO:+0200
TZNAME:EET
DTSTART:20141026T010000
END:STANDARD
BEGIN:DAYLIGHT
TZOFFSETFROM:+0200
TZOFFSETTO:+0300
TZNAME:EEST
DTSTART:20150329T010000
END:DAYLIGHT
BEGIN:STANDARD
TZOFFSETFROM:+0300
TZOFFSETTO:+0200
TZNAME:EET
DTSTART:20151025T010000
END:STANDARD
BEGIN:DAYLIGHT
TZOFFSETFROM:+0200
TZOFFSETTO:+0300
TZNAME:EEST
DTSTART:20160327T010000
END:DAYLIGHT
BEGIN:STANDARD
TZOFFSETFROM:+0300
TZOFFSETTO:+0200
TZNAME:EET
DTSTART:20161030T010000
END:STANDARD
END:VTIMEZONE
BEGIN:VEVENT
DTSTART;TZID=Europe/Helsinki:20151210T190000
DTEND;TZID=Europe/Helsinki:20151210T210000
DTSTAMP:20260420T203246
CREATED:20150923T210133Z
LAST-MODIFIED:20150923T210159Z
UID:551139-1449774000-1449781200@berliner-schloss.de
SUMMARY:Vortrag mit Dr. Manfred Osten in Düsseldorf
DESCRIPTION:Zusammen mit dem Goethe-Museum Düsseldorf lädt der Freundeskreis Düsseldorf am 10. Dezember um 19:00 Uhr ins Goethe-Museum im Schloss Jägerhof (Jacobistr. 2\, 40211 Düsseldorf) zu einer Vortragsveranstaltung ein. \n„Das schrecklichste aller Ereignisse oder Maxime des Handelns?“ \nist der Titel des Vortrages zur Aktualität der Französischen Revolution im Lichte der Einschätzung Goethes und Alexander von Humboldts. \nDer Vortrag wird von Dr. Manfred Osten\, Generalsekretär a.D. der Alexander-von-Humboldt-Stiftung\, gehalten. Der Erlös der Veranstaltung kommt dem Wiederaufbau des Berliner Schlosses zugute. \nTickets zu 10 Euro gibt es an der Abendkasse (ermäßigt 5 Euro). \n  \nMehr Informationen: Herr Ulf Doepner\, Tel. 0211-49790
URL:https://berliner-schloss.de/veranstaltung/vortrag-mit-dr-manfred-osten-in-duesseldorf/
LOCATION:Goethe-Museum Düsseldorf\, Jacobistr. 2\, Düsseldorf\, 40211\, Deutschland
END:VEVENT
END:VCALENDAR