BEGIN:VCALENDAR
VERSION:2.0
PRODID:-//Berliner Schloss - ECPv6.15.17.1//NONSGML v1.0//EN
CALSCALE:GREGORIAN
METHOD:PUBLISH
X-WR-CALNAME:Berliner Schloss
X-ORIGINAL-URL:https://berliner-schloss.de
X-WR-CALDESC:Veranstaltungen für Berliner Schloss
REFRESH-INTERVAL;VALUE=DURATION:PT1H
X-Robots-Tag:noindex
X-PUBLISHED-TTL:PT1H
BEGIN:VTIMEZONE
TZID:Europe/Helsinki
BEGIN:DAYLIGHT
TZOFFSETFROM:+0200
TZOFFSETTO:+0300
TZNAME:EEST
DTSTART:20140330T010000
END:DAYLIGHT
BEGIN:STANDARD
TZOFFSETFROM:+0300
TZOFFSETTO:+0200
TZNAME:EET
DTSTART:20141026T010000
END:STANDARD
BEGIN:DAYLIGHT
TZOFFSETFROM:+0200
TZOFFSETTO:+0300
TZNAME:EEST
DTSTART:20150329T010000
END:DAYLIGHT
BEGIN:STANDARD
TZOFFSETFROM:+0300
TZOFFSETTO:+0200
TZNAME:EET
DTSTART:20151025T010000
END:STANDARD
BEGIN:DAYLIGHT
TZOFFSETFROM:+0200
TZOFFSETTO:+0300
TZNAME:EEST
DTSTART:20160327T010000
END:DAYLIGHT
BEGIN:STANDARD
TZOFFSETFROM:+0300
TZOFFSETTO:+0200
TZNAME:EET
DTSTART:20161030T010000
END:STANDARD
END:VTIMEZONE
BEGIN:VEVENT
DTSTART;TZID=Europe/Helsinki:20151116T180000
DTEND;TZID=Europe/Helsinki:20151116T200000
DTSTAMP:20260420T203907
CREATED:20150923T195353Z
LAST-MODIFIED:20151102T204151Z
UID:551128-1447696800-1447704000@berliner-schloss.de
SUMMARY:Freundeskreis-Sitzung vom Freundeskreis München
DESCRIPTION:ACHTUNG: NEUER TERMIN! \nAm Dienstag\, 16. November um 18 Uhr trifft sich der Freundeskreis München in der Fraternität Dorpatensis (Baltenzentrum) in der Hesseloherstraße 13\, 80802 München\, zu seiner 51. Freundeskreis-Sitzung. \nMehr Informationen: Frau von Spaun\, Tel. 08152-3172 \n  \n 
URL:https://berliner-schloss.de/veranstaltung/freundeskreis-sitzung-vom-freundeskreis-muenchen/
LOCATION:CQ der Fraternitas Dorpatensis (Baltenzentrum)\, Hesseloherstr. 13\, München\, Bayern\, Deutschland
ORGANIZER;CN="Freundeskreis M%C3%BCnchen im F%C3%B6rderverein Berliner Schloss e.V.":MAILTO:karin.von.spaun@online.de
END:VEVENT
BEGIN:VEVENT
DTSTART;TZID=Europe/Helsinki:20151116T193000
DTEND;TZID=Europe/Helsinki:20151116T210000
DTSTAMP:20260420T203907
CREATED:20150923T200331Z
LAST-MODIFIED:20150923T200331Z
UID:551129-1447702200-1447707600@berliner-schloss.de
SUMMARY:Freundeskreis-Sitzung vom Freundeskreis Lüneburg
DESCRIPTION:Am 16. November um 18 Uhr trifft sich der Freundeskreis Lüneburg im Restaurant „Adlerhorst“ (Schnellenberger Weg 21) zu seiner nächsten Sitzung. \nMehr Informationen: Herr Gerhard Marwitz\, Tel. 04131-46142
URL:https://berliner-schloss.de/veranstaltung/freundeskreis-sitzung-vom-freundeskreis-lueneburg/
LOCATION:Restaurant Adlerhorst\, Schnellenberger Weg 21\, Lüneburg\, 21339\, Deutschland
ORGANIZER;CN="Freunde des Berliner Schlosses in L%C3%BCneburg":MAILTO:doriszie2007@yahoo.de
END:VEVENT
END:VCALENDAR