BEGIN:VCALENDAR
VERSION:2.0
PRODID:-//Berliner Schloss - ECPv6.15.17.1//NONSGML v1.0//EN
CALSCALE:GREGORIAN
METHOD:PUBLISH
X-WR-CALNAME:Berliner Schloss
X-ORIGINAL-URL:https://berliner-schloss.de
X-WR-CALDESC:Veranstaltungen für Berliner Schloss
REFRESH-INTERVAL;VALUE=DURATION:PT1H
X-Robots-Tag:noindex
X-PUBLISHED-TTL:PT1H
BEGIN:VTIMEZONE
TZID:Europe/Helsinki
BEGIN:DAYLIGHT
TZOFFSETFROM:+0200
TZOFFSETTO:+0300
TZNAME:EEST
DTSTART:20140330T010000
END:DAYLIGHT
BEGIN:STANDARD
TZOFFSETFROM:+0300
TZOFFSETTO:+0200
TZNAME:EET
DTSTART:20141026T010000
END:STANDARD
BEGIN:DAYLIGHT
TZOFFSETFROM:+0200
TZOFFSETTO:+0300
TZNAME:EEST
DTSTART:20150329T010000
END:DAYLIGHT
BEGIN:STANDARD
TZOFFSETFROM:+0300
TZOFFSETTO:+0200
TZNAME:EET
DTSTART:20151025T010000
END:STANDARD
BEGIN:DAYLIGHT
TZOFFSETFROM:+0200
TZOFFSETTO:+0300
TZNAME:EEST
DTSTART:20160327T010000
END:DAYLIGHT
BEGIN:STANDARD
TZOFFSETFROM:+0300
TZOFFSETTO:+0200
TZNAME:EET
DTSTART:20161030T010000
END:STANDARD
END:VTIMEZONE
BEGIN:VEVENT
DTSTART;TZID=Europe/Helsinki:20150625T183000
DTEND;TZID=Europe/Helsinki:20150625T220000
DTSTAMP:20260421T063250
CREATED:20150603T083944Z
LAST-MODIFIED:20150603T083944Z
UID:549472-1435257000-1435269600@berliner-schloss.de
SUMMARY:Benefiz-Kunst-Erlebnis im Kunst- und Kulturhof Kränholm
DESCRIPTION:Donnerstag\, 25. Juni\, 18.30 Uhr: Benefiz-Kunst-Erlebnis im Kunst- und Kulturhof Kränholm\, Auf dem Hohen Ufer\, Bremen-Lesum mit Kuratorin Inga Hardenberg und Pianist Michael Rayher (spielt Georg Kreisler-Lieder); Beitrag 35 Euro\, Anmeldung bitte bis 20. Juni per Fax 0421 636 7665 oder E-Mail matthias@peiffer-office.com
URL:https://berliner-schloss.de/veranstaltung/benefiz-kunst-erlebnis-im-kunst-und-kulturhof-kraenholm/
LOCATION:Kunst- und Kulturhof Kränholm\, Auf dem Hohen Ufer\, Bremen\, Bremen\, Deutschland
ORGANIZER;CN="Freunde des Berliner Schlosses in Bremen":MAILTO:bremer-freunde@berliner-schloss.de
END:VEVENT
END:VCALENDAR