BEGIN:VCALENDAR
VERSION:2.0
PRODID:-//Berliner Schloss - ECPv6.15.17.1//NONSGML v1.0//EN
CALSCALE:GREGORIAN
METHOD:PUBLISH
X-WR-CALNAME:Berliner Schloss
X-ORIGINAL-URL:https://berliner-schloss.de
X-WR-CALDESC:Veranstaltungen für Berliner Schloss
REFRESH-INTERVAL;VALUE=DURATION:PT1H
X-Robots-Tag:noindex
X-PUBLISHED-TTL:PT1H
BEGIN:VTIMEZONE
TZID:Europe/Helsinki
BEGIN:DAYLIGHT
TZOFFSETFROM:+0200
TZOFFSETTO:+0300
TZNAME:EEST
DTSTART:20140330T010000
END:DAYLIGHT
BEGIN:STANDARD
TZOFFSETFROM:+0300
TZOFFSETTO:+0200
TZNAME:EET
DTSTART:20141026T010000
END:STANDARD
BEGIN:DAYLIGHT
TZOFFSETFROM:+0200
TZOFFSETTO:+0300
TZNAME:EEST
DTSTART:20150329T010000
END:DAYLIGHT
BEGIN:STANDARD
TZOFFSETFROM:+0300
TZOFFSETTO:+0200
TZNAME:EET
DTSTART:20151025T010000
END:STANDARD
BEGIN:DAYLIGHT
TZOFFSETFROM:+0200
TZOFFSETTO:+0300
TZNAME:EEST
DTSTART:20160327T010000
END:DAYLIGHT
BEGIN:STANDARD
TZOFFSETFROM:+0300
TZOFFSETTO:+0200
TZNAME:EET
DTSTART:20161030T010000
END:STANDARD
END:VTIMEZONE
BEGIN:VEVENT
DTSTART;TZID=Europe/Helsinki:20150618T183000
DTEND;TZID=Europe/Helsinki:20150618T200000
DTSTAMP:20260421T062441
CREATED:20150603T084525Z
LAST-MODIFIED:20150603T084525Z
UID:549474-1434652200-1434657600@berliner-schloss.de
SUMMARY:Vortragsveranstaltung mit Herrn Rettig
DESCRIPTION:18. Juni 2015\, 19.00 Uhr: Vortragsveranstaltung mit Herrn Rettig\, Vorstand und der Stiftung Berliner Schloss – Humboldt-Forum\, in der Regionalzentrale der Deutschen Bank in Düsseldorf (Einlass: 18.30 Uhr)
URL:https://berliner-schloss.de/veranstaltung/vortragsveranstaltung-mit-herrn-rettig/
LOCATION:Regionalzentrale der Deutschen Bank\, Düsseldorf\, Nordrhein-Westfalen\, Deutschland
ORGANIZER;CN="Freunde des Berliner Schlosses in D%C3%BCsseldorf":MAILTO:ulf.doepner@t-online.de
END:VEVENT
END:VCALENDAR