BEGIN:VCALENDAR
VERSION:2.0
PRODID:-//Berliner Schloss - ECPv6.15.17.1//NONSGML v1.0//EN
CALSCALE:GREGORIAN
METHOD:PUBLISH
X-ORIGINAL-URL:https://berliner-schloss.de
X-WR-CALDESC:Veranstaltungen für Berliner Schloss
REFRESH-INTERVAL;VALUE=DURATION:PT1H
X-Robots-Tag:noindex
X-PUBLISHED-TTL:PT1H
BEGIN:VTIMEZONE
TZID:Europe/Helsinki
BEGIN:DAYLIGHT
TZOFFSETFROM:+0200
TZOFFSETTO:+0300
TZNAME:EEST
DTSTART:20140330T010000
END:DAYLIGHT
BEGIN:STANDARD
TZOFFSETFROM:+0300
TZOFFSETTO:+0200
TZNAME:EET
DTSTART:20141026T010000
END:STANDARD
BEGIN:DAYLIGHT
TZOFFSETFROM:+0200
TZOFFSETTO:+0300
TZNAME:EEST
DTSTART:20150329T010000
END:DAYLIGHT
BEGIN:STANDARD
TZOFFSETFROM:+0300
TZOFFSETTO:+0200
TZNAME:EET
DTSTART:20151025T010000
END:STANDARD
BEGIN:DAYLIGHT
TZOFFSETFROM:+0200
TZOFFSETTO:+0300
TZNAME:EEST
DTSTART:20160327T010000
END:DAYLIGHT
BEGIN:STANDARD
TZOFFSETFROM:+0300
TZOFFSETTO:+0200
TZNAME:EET
DTSTART:20161030T010000
END:STANDARD
END:VTIMEZONE
BEGIN:VEVENT
DTSTART;TZID=Europe/Helsinki:20150612T193000
DTEND;TZID=Europe/Helsinki:20150612T230000
DTSTAMP:20260421T063725
CREATED:20150603T083515Z
LAST-MODIFIED:20150603T083515Z
UID:549470-1434137400-1434150000@berliner-schloss.de
SUMMARY:Richtfest Berliner Schloss – Humboldt-Forum
DESCRIPTION:Freitag\, 12. Juni: Richtfest Berliner Schloss – Humboldt-Forum; 19.30 Uhr Konzert mit dem Rundfunk-Sinfonieorchester Berlin (RSB) unter der Leitung von Marek Janowski; kostenfreie Tickets ab 19. Mai unter www.sbs-humboldtforum.de.
URL:https://berliner-schloss.de/veranstaltung/richtfest-berliner-schloss-humboldt-forum/
LOCATION:Berliner Stadtbibliothek\, Breite Str. 36\, Berlin\, 10178\, Deutschland
ORGANIZER;CN="Freunde des Berliner Schlosses in Berlin":MAILTO:gunther.kaemmerer@gmx.de
END:VEVENT
END:VCALENDAR